BEGIN:VCALENDAR
VERSION:2.0
PRODID:-//Tukios.com/
BEGIN:VEVENT
UID:d738be20-6925-4487-a175-8cfe216c5b04@www.brownfamilymortuary.com
DTSTAMP:20260423T082416Z
DTSTART:20260425T180000Z
DTEND:20260425T190000Z
SUMMARY:Funeral Service
DESCRIPTION:
URL:https://www.brownfamilymortuary.com/obituaries/robert-fulton-sr
LOCATION:Pleasant Grove 3rd Ward LDS Church 568 South 1050 West  Pleasant 
	Grove UT 84062
GEO:40.3569723;-111.7559331
END:VEVENT
END:VCALENDAR